BEGIN:VCALENDAR
VERSION:2.0
PRODID:-//Moravská národní obec - Za Moravu - ECPv5.12.4//NONSGML v1.0//EN
CALSCALE:GREGORIAN
METHOD:PUBLISH
X-WR-CALNAME:Moravská národní obec - Za Moravu
X-ORIGINAL-URL:https://zamoravu.eu
X-WR-CALDESC:Akce na Moravská národní obec - Za Moravu
BEGIN:VTIMEZONE
TZID:Europe/Prague
BEGIN:DAYLIGHT
TZOFFSETFROM:+0100
TZOFFSETTO:+0200
TZNAME:CEST
DTSTART:20220327T010000
END:DAYLIGHT
BEGIN:STANDARD
TZOFFSETFROM:+0200
TZOFFSETTO:+0100
TZNAME:CET
DTSTART:20221030T010000
END:STANDARD
END:VTIMEZONE
BEGIN:VEVENT
DTSTART;TZID=Europe/Prague:20220101T090000
DTEND;TZID=Europe/Prague:20220101T120000
DTSTAMP:20260422T124255
CREATED:20211219T211357Z
LAST-MODIFIED:20211219T211408Z
UID:47449-1641027600-1641038400@zamoravu.eu
SUMMARY:BRADLO - Putování Moravou - Novoroční výstup
DESCRIPTION:Tradiční novoroční výstup na Bradlo\, více se dozvíte v pozvánce
URL:https://zamoravu.eu/akce/bradlo-putovani-moravou-novorocni-vystup/
CATEGORIES:Putování Moravou
END:VEVENT
END:VCALENDAR