BEGIN:VCALENDAR
VERSION:2.0
PRODID:-//Moravská národní obec - Za Moravu - ECPv5.12.4//NONSGML v1.0//EN
CALSCALE:GREGORIAN
METHOD:PUBLISH
X-WR-CALNAME:Moravská národní obec - Za Moravu
X-ORIGINAL-URL:https://zamoravu.eu
X-WR-CALDESC:Akce na Moravská národní obec - Za Moravu
BEGIN:VTIMEZONE
TZID:Europe/Prague
BEGIN:DAYLIGHT
TZOFFSETFROM:+0100
TZOFFSETTO:+0200
TZNAME:CEST
DTSTART:20230326T010000
END:DAYLIGHT
BEGIN:STANDARD
TZOFFSETFROM:+0200
TZOFFSETTO:+0100
TZNAME:CET
DTSTART:20231029T010000
END:STANDARD
END:VTIMEZONE
BEGIN:VEVENT
DTSTART;TZID=Europe/Prague:20230916T090000
DTEND;TZID=Europe/Prague:20230916T090000
DTSTAMP:20260422T130514
CREATED:20230830T183302Z
LAST-MODIFIED:20230911T182351Z
UID:49250-1694854800-1694854800@zamoravu.eu
SUMMARY:Den za Moravu 2023
DESCRIPTION:Den Za Moravu 2023 se bude konat v Brně v sobotu 16. září.\nPozvánka:
URL:https://zamoravu.eu/akce/den-za-moravu-2023/
CATEGORIES:Den za Moravu v Brně
END:VEVENT
END:VCALENDAR