BEGIN:VCALENDAR
VERSION:2.0
PRODID:-//Moravská národní obec - Za Moravu - ECPv5.12.4//NONSGML v1.0//EN
CALSCALE:GREGORIAN
METHOD:PUBLISH
X-WR-CALNAME:Moravská národní obec - Za Moravu
X-ORIGINAL-URL:https://zamoravu.eu
X-WR-CALDESC:Akce na Moravská národní obec - Za Moravu
BEGIN:VTIMEZONE
TZID:Europe/Prague
BEGIN:DAYLIGHT
TZOFFSETFROM:+0100
TZOFFSETTO:+0200
TZNAME:CEST
DTSTART:20230326T010000
END:DAYLIGHT
BEGIN:STANDARD
TZOFFSETFROM:+0200
TZOFFSETTO:+0100
TZNAME:CET
DTSTART:20231029T010000
END:STANDARD
END:VTIMEZONE
BEGIN:VEVENT
DTSTART;TZID=Europe/Prague:20230902T100000
DTEND;TZID=Europe/Prague:20230902T140000
DTSTAMP:20260422T130533
CREATED:20230911T181200Z
LAST-MODIFIED:20230911T181437Z
UID:49286-1693648800-1693663200@zamoravu.eu
SUMMARY:Pochod k prameni Moravy 2023
DESCRIPTION:Zveme na tradiční Pochod k Prameni Moravy\, který se koná v sobotu 2. září.
URL:https://zamoravu.eu/akce/pochod-k-prameni-moravy-2023/
CATEGORIES:Putování Moravou
END:VEVENT
END:VCALENDAR