BEGIN:VCALENDAR
VERSION:2.0
PRODID:-//Moravská národní obec - Za Moravu - ECPv5.12.4//NONSGML v1.0//EN
CALSCALE:GREGORIAN
METHOD:PUBLISH
X-WR-CALNAME:Moravská národní obec - Za Moravu
X-ORIGINAL-URL:https://zamoravu.eu
X-WR-CALDESC:Akce na Moravská národní obec - Za Moravu
BEGIN:VTIMEZONE
TZID:Europe/Prague
BEGIN:DAYLIGHT
TZOFFSETFROM:+0100
TZOFFSETTO:+0200
TZNAME:CEST
DTSTART:20200329T010000
END:DAYLIGHT
BEGIN:STANDARD
TZOFFSETFROM:+0200
TZOFFSETTO:+0100
TZNAME:CET
DTSTART:20201025T010000
END:STANDARD
END:VTIMEZONE
BEGIN:VEVENT
DTSTART;VALUE=DATE:20200516
DTEND;VALUE=DATE:20200517
DTSTAMP:20260422T113156
CREATED:20200302T142514Z
LAST-MODIFIED:20200302T142557Z
UID:45652-1589587200-1589673599@zamoravu.eu
SUMMARY:Putování Moravou – Putování po zajímavostech a krásách Prostějova
DESCRIPTION:Projdeme se po památkách tohoto hanáckého města. Prohlídka děkanského kostela Povýšení svatého Kříže\, jehož historie sahá do období před rokem 1200. Prostějovská domovní znamení.\nOrganizačně zajišťuje MNO Olomoucko –  Martina Dudková
URL:https://zamoravu.eu/akce/putovani-moravou-putovani-po-zajimavostech-a-krasach-prostejova/
CATEGORIES:Putování Moravou
END:VEVENT
END:VCALENDAR