BEGIN:VCALENDAR
VERSION:2.0
PRODID:-//Moravská národní obec - Za Moravu - ECPv5.12.4//NONSGML v1.0//EN
CALSCALE:GREGORIAN
METHOD:PUBLISH
X-WR-CALNAME:Moravská národní obec - Za Moravu
X-ORIGINAL-URL:https://zamoravu.eu
X-WR-CALDESC:Akce na Moravská národní obec - Za Moravu
BEGIN:VTIMEZONE
TZID:Europe/Prague
BEGIN:DAYLIGHT
TZOFFSETFROM:+0100
TZOFFSETTO:+0200
TZNAME:CEST
DTSTART:20190331T010000
END:DAYLIGHT
BEGIN:STANDARD
TZOFFSETFROM:+0200
TZOFFSETTO:+0100
TZNAME:CET
DTSTART:20191027T010000
END:STANDARD
END:VTIMEZONE
BEGIN:VEVENT
DTSTART;TZID=Europe/Prague:20190929T081800
DTEND;TZID=Europe/Prague:20190929T081800
DTSTAMP:20260422T125353
CREATED:20190916T090607Z
LAST-MODIFIED:20200302T142417Z
UID:45281-1569745080-1569745080@zamoravu.eu
SUMMARY:Putování Moravou - výlet po zemské hranici - Svitavsko
DESCRIPTION:Vážení členové a příznivci Moravské národní obce\, \nv neděli 29. září pořádáme výlet po zemské hranici na Svitavsku.\nSraz účastníků z Brna bude 6:43 před vedlejším vchodem do nádraží budovy Brno hl. n.\, odkud pojedeme vlakem přes Svitavy do Květné.\nPřibližná trasa: https://mapy.cz/s/fumeverade – větší část povede po zemské hranici.\nDoporučujeme vhodnou obuv a oděv\, velkou část trasy půjdeme terénem mimo cesty. Doporučujeme též svačinu s sebou\, po cestě nebude moc možností k občerstvení. \nSpojení tam:\nBrno hl.n. 6:54 – Svitavy 7:57 (R 872)\nSvitavy 8:03 – Květná 8:18 (Os 15382) \nOdjezd zpět – Svitavy zastávka 15:55 nebo 17:55 nebo Svitavy 16:03 / 18:03 – podle aktuálních časových možností – příjezd do Brna po páté nebo sedmé hodině večer. \nV případě zájmu napište na konecny-(a)-zamoravu.eu\, ať máme přibližný přehled o počtu účastníků. \nPetr Konečný\nMístní sdružení Brno
URL:https://zamoravu.eu/akce/putovani-moravou-vylet-po-zemske-hranici-svitavsko/
CATEGORIES:Putování Moravou
END:VEVENT
END:VCALENDAR