BEGIN:VCALENDAR
VERSION:2.0
PRODID:-//Moravská národní obec - Za Moravu - ECPv5.12.4//NONSGML v1.0//EN
CALSCALE:GREGORIAN
METHOD:PUBLISH
X-WR-CALNAME:Moravská národní obec - Za Moravu
X-ORIGINAL-URL:https://zamoravu.eu
X-WR-CALDESC:Akce na Moravská národní obec - Za Moravu
BEGIN:VTIMEZONE
TZID:Europe/Prague
BEGIN:DAYLIGHT
TZOFFSETFROM:+0100
TZOFFSETTO:+0200
TZNAME:CEST
DTSTART:20110327T010000
END:DAYLIGHT
BEGIN:STANDARD
TZOFFSETFROM:+0200
TZOFFSETTO:+0100
TZNAME:CET
DTSTART:20111030T010000
END:STANDARD
END:VTIMEZONE
BEGIN:VEVENT
DTSTART;TZID=Europe/Prague:20111204T103000
DTEND;TZID=Europe/Prague:20111204T103000
DTSTAMP:20260423T161150
CREATED:20111204T093000Z
LAST-MODIFIED:20111204T093000Z
UID:42763-1322994600-1322994600@zamoravu.eu
SUMMARY:PRACE - Výstup na Mohylu
DESCRIPTION:Výstup na Mohylu míru
URL:https://zamoravu.eu/akce/udalost-42763/
END:VEVENT
END:VCALENDAR