BEGIN:VCALENDAR
VERSION:2.0
PRODID:-//Moravská národní obec - Za Moravu - ECPv5.12.4//NONSGML v1.0//EN
CALSCALE:GREGORIAN
METHOD:PUBLISH
X-WR-CALNAME:Moravská národní obec - Za Moravu
X-ORIGINAL-URL:https://zamoravu.eu
X-WR-CALDESC:Akce na Moravská národní obec - Za Moravu
BEGIN:VTIMEZONE
TZID:Europe/Prague
BEGIN:DAYLIGHT
TZOFFSETFROM:+0100
TZOFFSETTO:+0200
TZNAME:CEST
DTSTART:20110327T010000
END:DAYLIGHT
BEGIN:STANDARD
TZOFFSETFROM:+0200
TZOFFSETTO:+0100
TZNAME:CET
DTSTART:20111030T010000
END:STANDARD
END:VTIMEZONE
BEGIN:VEVENT
DTSTART;TZID=Europe/Prague:20111223T180000
DTEND;TZID=Europe/Prague:20111223T180000
DTSTAMP:20260423T123844
CREATED:20111223T170000Z
LAST-MODIFIED:20111223T170000Z
UID:42766-1324663200-1324663200@zamoravu.eu
SUMMARY:BRNO - Scuk Mladé Sajtny
DESCRIPTION:
URL:https://zamoravu.eu/akce/udalost-42766/
END:VEVENT
END:VCALENDAR