BEGIN:VCALENDAR
VERSION:2.0
PRODID:-//Moravská národní obec - Za Moravu - ECPv5.12.4//NONSGML v1.0//EN
CALSCALE:GREGORIAN
METHOD:PUBLISH
X-WR-CALNAME:Moravská národní obec - Za Moravu
X-ORIGINAL-URL:https://zamoravu.eu
X-WR-CALDESC:Akce na Moravská národní obec - Za Moravu
BEGIN:VTIMEZONE
TZID:Europe/Prague
BEGIN:DAYLIGHT
TZOFFSETFROM:+0100
TZOFFSETTO:+0200
TZNAME:CEST
DTSTART:20120325T010000
END:DAYLIGHT
BEGIN:STANDARD
TZOFFSETFROM:+0200
TZOFFSETTO:+0100
TZNAME:CET
DTSTART:20121028T010000
END:STANDARD
END:VTIMEZONE
BEGIN:VEVENT
DTSTART;TZID=Europe/Prague:20120221T180000
DTEND;TZID=Europe/Prague:20120221T180000
DTSTAMP:20260423T012829
CREATED:20120221T170000Z
LAST-MODIFIED:20120221T170000Z
UID:42771-1329847200-1329847200@zamoravu.eu
SUMMARY:TVAROŽNÁ - MNO Podstarohorci
DESCRIPTION:Setkání členů a příznivců MNO Podstarohorci
URL:https://zamoravu.eu/akce/udalost-42771/
END:VEVENT
END:VCALENDAR