BEGIN:VCALENDAR
VERSION:2.0
PRODID:-//Moravská národní obec - Za Moravu - ECPv5.12.4//NONSGML v1.0//EN
CALSCALE:GREGORIAN
METHOD:PUBLISH
X-WR-CALNAME:Moravská národní obec - Za Moravu
X-ORIGINAL-URL:https://zamoravu.eu
X-WR-CALDESC:Akce na Moravská národní obec - Za Moravu
BEGIN:VTIMEZONE
TZID:Europe/Prague
BEGIN:DAYLIGHT
TZOFFSETFROM:+0100
TZOFFSETTO:+0200
TZNAME:CEST
DTSTART:20120325T010000
END:DAYLIGHT
BEGIN:STANDARD
TZOFFSETFROM:+0200
TZOFFSETTO:+0100
TZNAME:CET
DTSTART:20121028T010000
END:STANDARD
END:VTIMEZONE
BEGIN:VEVENT
DTSTART;TZID=Europe/Prague:20120601T174500
DTEND;TZID=Europe/Prague:20120601T174500
DTSTAMP:20260422T182029
CREATED:20120601T154500Z
LAST-MODIFIED:20120601T154500Z
UID:42780-1338572700-1338572700@zamoravu.eu
SUMMARY:ŠUMPERK - Slavnosti města
DESCRIPTION:Podpora Oblastního sdružení MNO Haná.
URL:https://zamoravu.eu/akce/udalost-42780/
END:VEVENT
END:VCALENDAR