BEGIN:VCALENDAR
VERSION:2.0
PRODID:-//Moravská národní obec - Za Moravu - ECPv5.12.4//NONSGML v1.0//EN
CALSCALE:GREGORIAN
METHOD:PUBLISH
X-WR-CALNAME:Moravská národní obec - Za Moravu
X-ORIGINAL-URL:https://zamoravu.eu
X-WR-CALDESC:Akce na Moravská národní obec - Za Moravu
BEGIN:VTIMEZONE
TZID:Europe/Prague
BEGIN:DAYLIGHT
TZOFFSETFROM:+0100
TZOFFSETTO:+0200
TZNAME:CEST
DTSTART:20130331T010000
END:DAYLIGHT
BEGIN:STANDARD
TZOFFSETFROM:+0200
TZOFFSETTO:+0100
TZNAME:CET
DTSTART:20131027T010000
END:STANDARD
END:VTIMEZONE
BEGIN:VEVENT
DTSTART;TZID=Europe/Prague:20130223T104500
DTEND;TZID=Europe/Prague:20130223T104500
DTSTAMP:20260422T143951
CREATED:20130223T094500Z
LAST-MODIFIED:20130223T094500Z
UID:42804-1361616300-1361616300@zamoravu.eu
SUMMARY:UH. HRADIŠTĚ - Narození barona Pražáka
DESCRIPTION:Mariánské náměstí\, č. p. 71
URL:https://zamoravu.eu/akce/udalost-42804/
END:VEVENT
END:VCALENDAR