BEGIN:VCALENDAR
VERSION:2.0
PRODID:-//Moravská národní obec - Za Moravu - ECPv5.12.4//NONSGML v1.0//EN
CALSCALE:GREGORIAN
METHOD:PUBLISH
X-WR-CALNAME:Moravská národní obec - Za Moravu
X-ORIGINAL-URL:https://zamoravu.eu
X-WR-CALDESC:Akce na Moravská národní obec - Za Moravu
BEGIN:VTIMEZONE
TZID:Europe/Prague
BEGIN:DAYLIGHT
TZOFFSETFROM:+0100
TZOFFSETTO:+0200
TZNAME:CEST
DTSTART:20130331T010000
END:DAYLIGHT
BEGIN:STANDARD
TZOFFSETFROM:+0200
TZOFFSETTO:+0100
TZNAME:CET
DTSTART:20131027T010000
END:STANDARD
END:VTIMEZONE
BEGIN:VEVENT
DTSTART;TZID=Europe/Prague:20130907T100000
DTEND;TZID=Europe/Prague:20130907T100000
DTSTAMP:20260420T085008
CREATED:20130907T080000Z
LAST-MODIFIED:20130907T080000Z
UID:42832-1378548000-1378548000@zamoravu.eu
SUMMARY:Pochod k prameni Moravy
DESCRIPTION:Společnost pro Moravu a Slezsko
URL:https://zamoravu.eu/akce/udalost-42832/
END:VEVENT
END:VCALENDAR