BEGIN:VCALENDAR
VERSION:2.0
PRODID:-//Moravská národní obec - Za Moravu - ECPv5.12.4//NONSGML v1.0//EN
CALSCALE:GREGORIAN
METHOD:PUBLISH
X-WR-CALNAME:Moravská národní obec - Za Moravu
X-ORIGINAL-URL:https://zamoravu.eu
X-WR-CALDESC:Akce na Moravská národní obec - Za Moravu
BEGIN:VTIMEZONE
TZID:Europe/Prague
BEGIN:DAYLIGHT
TZOFFSETFROM:+0100
TZOFFSETTO:+0200
TZNAME:CEST
DTSTART:20130331T010000
END:DAYLIGHT
BEGIN:STANDARD
TZOFFSETFROM:+0200
TZOFFSETTO:+0100
TZNAME:CET
DTSTART:20131027T010000
END:STANDARD
END:VTIMEZONE
BEGIN:VEVENT
DTSTART;TZID=Europe/Prague:20131102T133000
DTEND;TZID=Europe/Prague:20131102T133000
DTSTAMP:20260420T063311
CREATED:20131102T123000Z
LAST-MODIFIED:20131102T123000Z
UID:42838-1383399000-1383399000@zamoravu.eu
SUMMARY:Konference vlajkové iniciativy
DESCRIPTION:Olomouc\, restaurace U Puškaře
URL:https://zamoravu.eu/akce/udalost-42838/
END:VEVENT
END:VCALENDAR