BEGIN:VCALENDAR
VERSION:2.0
PRODID:-//Moravská národní obec - Za Moravu - ECPv5.12.4//NONSGML v1.0//EN
CALSCALE:GREGORIAN
METHOD:PUBLISH
X-WR-CALNAME:Moravská národní obec - Za Moravu
X-ORIGINAL-URL:https://zamoravu.eu
X-WR-CALDESC:Akce na Moravská národní obec - Za Moravu
BEGIN:VTIMEZONE
TZID:Europe/Prague
BEGIN:DAYLIGHT
TZOFFSETFROM:+0100
TZOFFSETTO:+0200
TZNAME:CEST
DTSTART:20140330T010000
END:DAYLIGHT
BEGIN:STANDARD
TZOFFSETFROM:+0200
TZOFFSETTO:+0100
TZNAME:CET
DTSTART:20141026T010000
END:STANDARD
END:VTIMEZONE
BEGIN:VEVENT
DTSTART;TZID=Europe/Prague:20141023T173000
DTEND;TZID=Europe/Prague:20141023T173000
DTSTAMP:20260419T232524
CREATED:20141023T153000Z
LAST-MODIFIED:20141023T153000Z
UID:42883-1414085400-1414085400@zamoravu.eu
SUMMARY:Mše ke cti bl. Karla Rakouského
DESCRIPTION:Brno\, katedrála sv. Petra a Pavla
URL:https://zamoravu.eu/akce/udalost-42883/
END:VEVENT
END:VCALENDAR