BEGIN:VCALENDAR
VERSION:2.0
PRODID:-//Moravská národní obec - Za Moravu - ECPv5.12.4//NONSGML v1.0//EN
CALSCALE:GREGORIAN
METHOD:PUBLISH
X-WR-CALNAME:Moravská národní obec - Za Moravu
X-ORIGINAL-URL:https://zamoravu.eu
X-WR-CALDESC:Akce na Moravská národní obec - Za Moravu
BEGIN:VTIMEZONE
TZID:Europe/Prague
BEGIN:DAYLIGHT
TZOFFSETFROM:+0100
TZOFFSETTO:+0200
TZNAME:CEST
DTSTART:20150329T010000
END:DAYLIGHT
BEGIN:STANDARD
TZOFFSETFROM:+0200
TZOFFSETTO:+0100
TZNAME:CET
DTSTART:20151025T010000
END:STANDARD
END:VTIMEZONE
BEGIN:VEVENT
DTSTART;TZID=Europe/Prague:20150428T093000
DTEND;TZID=Europe/Prague:20150428T093000
DTSTAMP:20260419T192653
CREATED:20150428T073000Z
LAST-MODIFIED:20150428T073000Z
UID:42914-1430213400-1430213400@zamoravu.eu
SUMMARY:BRNO - Pedagogická konference Učíme o Moravě
DESCRIPTION:Vzdělávací institut INTEGRA Brno–gymnázium\, ZŠ a MŠ\, Brno-Líšeň\, Rašelinová 9 (učebna 103)
URL:https://zamoravu.eu/akce/udalost-42914/
END:VEVENT
END:VCALENDAR